{
 "version": 1.0,
 "tileBundlesPath": "./tile",
 "storageInfo": {
  "packetSize": 128,
  "storageFormat": "esriMapCacheStorageModeCompactV2"
 },
 "tileImageInfo": {
  "format": "JPEG",
  "compressionQuality": 100,
  "bandCount": 1,
  "lercError": 0
 },
 "tileInfo": {
  "spatialReference": {
   "wkid": 102100,
   "latestWkid": 3857
  },
  "origin": {
   "x": -20037700,
   "y": 30241100
  },
  "rows": 256,
  "cols": 256,
  "dpi": 96,
  "lods": [
   {
    "level": 0,
    "resolution": 0.5045614257895182,
    "scale": 1907
   },
   {
    "level": 1,
    "resolution": 0.32305689611379224,
    "scale": 1221
   },
   {
    "level": 2,
    "resolution": 0.20663999661332658,
    "scale": 781
   },
   {
    "level": 3,
    "resolution": 0.13229193125052918,
    "scale": 500
   },
   {
    "level": 4,
    "resolution": 0.08466683600033867,
    "scale": 320
   },
   {
    "level": 5,
    "resolution": 0.05423969181271696,
    "scale": 205
   },
   {
    "level": 6,
    "resolution": 0.03466048598763864,
    "scale": 131
   },
   {
    "level": 7,
    "resolution": 0.022225044450088903,
    "scale": 84
   },
   {
    "level": 8,
    "resolution": 0.014155236643806622,
    "scale": 53.5
   },
   {
    "level": 9,
    "resolution": 0.009083163999661333,
    "scale": 34.33
   },
   {
    "level": 10,
    "resolution": 0.005820844975023284,
    "scale": 22
   },
   {
    "level": 11,
    "resolution": 0.003704174075014817,
    "scale": 14
   },
   {
    "level": 12,
    "resolution": 0.0023812547625095253,
    "scale": 9
   },
   {
    "level": 13,
    "resolution": 0.0015213572093810855,
    "scale": 5.75
   },
   {
    "level": 14,
    "resolution": 9.78960291253916E-4,
    "scale": 3.7
   }
  ],
  "format": "JPEG",
  "compressionQuality": 100,
  "bandCount": 1,
  "lercError": 0,
  "storageFormat": "esriMapCacheStorageModeCompactV2",
  "packetSize": 128
 },
 "name": "Map",
 "serviceDescription": "",
 "spatialReference": {
  "wkid": 102100,
  "latestWkid": 3857,
  "xyTolerance": 0.001,
  "zTolerance": 0.001,
  "mTolerance": 0.001,
  "falseX": -20037700,
  "falseY": -30241100,
  "xyUnits": 10000,
  "falseZ": -100000,
  "zUnits": 10000,
  "falseM": -100000,
  "mUnits": 10000
 },
 "units": "esriMeters",
 "minLOD": 0,
 "maxLOD": 14,
 "resampling": true,
 "layers": [
  {
   "id": 0,
   "name": "Vets Imagery.tif",
   "parentLayerId": -1,
   "defaultVisibility": true,
   "subLayerIds": null,
   "minScale": 0,
   "maxScale": 0,
   "type": "Raster Layer",
   "supportsDynamicLegends": true,
   "legend": [
    {
     "label": "Red: Band_1",
     "imageData": "iVBORw0KGgoAAAANSUhEUgAAABQAAAAUCAYAAACNiR0NAAAACXBIWXMAAA7EAAAOxAGVKw4bAAAAOklEQVQ4jWNhoDJgoZmB/8GIfMAIRrR0IbUAC9VMgoJRAykHLFQwAwWMGkg5YBnBBjJCyzOqGUgtAABgfwJTnasaYgAAAABJRU5ErkJggg==",
     "contentType": "image/png",
     "groupId": "0",
     "height": 20,
     "width": 20,
     "layerId": 0,
     "layerName": "Vets Imagery.tif"
    },
    {
     "label": "Green: Band_2",
     "imageData": "iVBORw0KGgoAAAANSUhEUgAAABQAAAAUCAYAAACNiR0NAAAACXBIWXMAAA7EAAAOxAGVKw4bAAAAPElEQVQ4je3UoQ0AMBBCUS5h/5WvpkmDhjr+AE8gIMLxH7hYSxqMgqFY0I4+oRX0Y8CQCvq9De+f5cBQB19+AlPZl25RAAAAAElFTkSuQmCC",
     "contentType": "image/png",
     "groupId": "0",
     "height": 20,
     "width": 20,
     "layerId": 0,
     "layerName": "Vets Imagery.tif"
    },
    {
     "label": "Blue: Band_3",
     "imageData": "iVBORw0KGgoAAAANSUhEUgAAABQAAAAUCAYAAACNiR0NAAAACXBIWXMAAA7EAAAOxAGVKw4bAAAAPElEQVQ4jWNhoDJgoaGB//9TZhQjI5qB1AEsowZSDFgoNwIVjBpIOWChghkoYNRAygFSGELKMyoaSB0AAF59AlO8NYpcAAAAAElFTkSuQmCC",
     "contentType": "image/png",
     "groupId": "0",
     "height": 20,
     "width": 20,
     "layerId": 0,
     "layerName": "Vets Imagery.tif"
    }
   ],
   "layerId": 0,
   "layerName": "Vets Imagery.tif",
   "serviceItemId": "789fa05089f9422a89b5d48749be18a2"
  }
 ],
 "initialExtent": {
  "xmin": -9256605.331581812,
  "ymin": 5260985.342676315,
  "xmax": -9256455.638010394,
  "ymax": 5261259.691976064,
  "spatialReference": {
   "wkid": 102100,
   "latestWkid": 3857
  }
 },
 "fullExtent": {
  "xmin": -9256605.331581812,
  "ymin": 5260985.342676315,
  "xmax": -9256455.638010394,
  "ymax": 5261259.691976064,
  "spatialReference": {
   "wkid": 102100,
   "latestWkid": 3857
  }
 },
 "minScale": 1907.0,
 "maxScale": 3.7,
 "exportTilesAllowed": false,
 "maxExportTilesCount": 0,
 "currentVersion": 10.91,
 "mapName": "Map",
 "singleFusedMapCache": true,
 "type": "MapServer",
 "supportedExtensions": "",
 "capabilities": "TilesOnly,Tilemap",
 "serviceItemId": "789fa05089f9422a89b5d48749be18a2"
}
